BEGIN:VCALENDAR
VERSION:2.0
PRODID:-//BRK-Wasserwacht Senden - ECPv4.9.11//NONSGML v1.0//EN
CALSCALE:GREGORIAN
METHOD:PUBLISH
X-WR-CALNAME:BRK-Wasserwacht Senden
X-ORIGINAL-URL:https://www.wasserwacht-senden.de
X-WR-CALDESC:Veranstaltungen im BRK-Wasserwacht Senden
BEGIN:VTIMEZONE
TZID:Europe/Helsinki
BEGIN:DAYLIGHT
TZOFFSETFROM:+0200
TZOFFSETTO:+0300
TZNAME:EEST
DTSTART:20240331T010000
END:DAYLIGHT
BEGIN:STANDARD
TZOFFSETFROM:+0300
TZOFFSETTO:+0200
TZNAME:EET
DTSTART:20241027T010000
END:STANDARD
END:VTIMEZONE
BEGIN:VEVENT
DTSTART;TZID=Europe/Helsinki:20240725T183000
DTEND;TZID=Europe/Helsinki:20240725T233000
DTSTAMP:20260422T115233
CREATED:20240604T125151Z
LAST-MODIFIED:20240604T125151Z
UID:7700-1721932200-1721950200@www.wasserwacht-senden.de
SUMMARY:4. Vorstandssitzung WW-OG Senden
DESCRIPTION:Im Musikerheim Gerlenhofen.\nMitglieder der WW-Senden als Gäste gerne willkommen. \n
URL:https://www.wasserwacht-senden.de/event/4-vorstandssitzung-ww-og-senden/
LOCATION:Musikerheim\, Gerlenhofen
CATEGORIES:Sonstiges
END:VEVENT
END:VCALENDAR