BEGIN:VCALENDAR
VERSION:2.0
PRODID:-//BRK-Wasserwacht Senden - ECPv4.9.11//NONSGML v1.0//EN
CALSCALE:GREGORIAN
METHOD:PUBLISH
X-WR-CALNAME:BRK-Wasserwacht Senden
X-ORIGINAL-URL:https://www.wasserwacht-senden.de
X-WR-CALDESC:Veranstaltungen im BRK-Wasserwacht Senden
BEGIN:VTIMEZONE
TZID:Europe/Helsinki
BEGIN:DAYLIGHT
TZOFFSETFROM:+0200
TZOFFSETTO:+0300
TZNAME:EEST
DTSTART:20220327T010000
END:DAYLIGHT
BEGIN:STANDARD
TZOFFSETFROM:+0300
TZOFFSETTO:+0200
TZNAME:EET
DTSTART:20221030T010000
END:STANDARD
END:VTIMEZONE
BEGIN:VEVENT
DTSTART;TZID=Europe/Helsinki:20221112T090000
DTEND;TZID=Europe/Helsinki:20221112T130000
DTSTAMP:20260424T123614
CREATED:20200124T210049Z
LAST-MODIFIED:20221020T091906Z
UID:7288-1668243600-1668258000@www.wasserwacht-senden.de
SUMMARY:Trampolinpark Ulm
DESCRIPTION:Selbst wenn ihr nicht mitspringen wollt\, brauchen wir Fahrer.\nAnmeldeschluss für alle Jumper ist am 02.11.; Fahrer und Zuschauer auch danach möglich \n
URL:https://www.wasserwacht-senden.de/event/festakt-50-jahre-ww-og-senden/
LOCATION:BRK-Haus Senden\, Heiningstr. 10\, Senden\, 89250\, Deutschland
CATEGORIES:Jugend,Kameradschaft
END:VEVENT
END:VCALENDAR