BEGIN:VCALENDAR
VERSION:2.0
PRODID:-//BRK-Wasserwacht Senden - ECPv4.9.11//NONSGML v1.0//EN
CALSCALE:GREGORIAN
METHOD:PUBLISH
X-WR-CALNAME:BRK-Wasserwacht Senden
X-ORIGINAL-URL:https://www.wasserwacht-senden.de
X-WR-CALDESC:Veranstaltungen im BRK-Wasserwacht Senden
BEGIN:VTIMEZONE
TZID:Europe/Helsinki
BEGIN:DAYLIGHT
TZOFFSETFROM:+0200
TZOFFSETTO:+0300
TZNAME:EEST
DTSTART:20240331T010000
END:DAYLIGHT
BEGIN:STANDARD
TZOFFSETFROM:+0300
TZOFFSETTO:+0200
TZNAME:EET
DTSTART:20241027T010000
END:STANDARD
END:VTIMEZONE
BEGIN:VEVENT
DTSTART;TZID=Europe/Helsinki:20241013T080000
DTEND;TZID=Europe/Helsinki:20241013T170000
DTSTAMP:20260422T101115
CREATED:20240906T113413Z
LAST-MODIFIED:20240906T113413Z
UID:7724-1728806400-1728838800@www.wasserwacht-senden.de
SUMMARY:Trampolin-Park "Jump Town" in Ulm
DESCRIPTION:Details siehe Einladung \n
URL:https://www.wasserwacht-senden.de/event/trampolin-park-jump-town-in-ulm/
LOCATION:Trampolinhalle in Ulm\,
CATEGORIES:Jugend
END:VEVENT
END:VCALENDAR