BEGIN:VCALENDAR
VERSION:2.0
PRODID:-//BRK-Wasserwacht Senden - ECPv4.9.11//NONSGML v1.0//EN
CALSCALE:GREGORIAN
METHOD:PUBLISH
X-WR-CALNAME:BRK-Wasserwacht Senden
X-ORIGINAL-URL:https://www.wasserwacht-senden.de
X-WR-CALDESC:Veranstaltungen im BRK-Wasserwacht Senden
BEGIN:VTIMEZONE
TZID:Europe/Helsinki
BEGIN:DAYLIGHT
TZOFFSETFROM:+0200
TZOFFSETTO:+0300
TZNAME:EEST
DTSTART:20200329T010000
END:DAYLIGHT
BEGIN:STANDARD
TZOFFSETFROM:+0300
TZOFFSETTO:+0200
TZNAME:EET
DTSTART:20201025T010000
END:STANDARD
END:VTIMEZONE
BEGIN:VEVENT
DTSTART;TZID=Europe/Helsinki:20200812T180000
DTEND;TZID=Europe/Helsinki:20200812T210000
DTSTAMP:20260420T094714
CREATED:20200716T084527Z
LAST-MODIFIED:20200716T084527Z
UID:7347-1597255200-1597266000@www.wasserwacht-senden.de
SUMMARY:Radtour zu Wach-/Einsatzgewässern (südliche Runde)
DESCRIPTION:Für Aktive und Jugendliche ab 14 Jahren. Mit vorheriger Anmeldung über Doodle.\nSTART: 18:00h am BRK-Haus Senden \n
URL:https://www.wasserwacht-senden.de/event/radtour-zu-wach-einsatzgewaessern-suedliche-runde/
LOCATION:BRK-Haus Senden\, Heiningstr. 10\, Senden\, 89250\, Deutschland
CATEGORIES:Training
END:VEVENT
END:VCALENDAR