BEGIN:VCALENDAR
VERSION:2.0
PRODID:-//BRK-Wasserwacht Senden - ECPv4.9.11//NONSGML v1.0//EN
CALSCALE:GREGORIAN
METHOD:PUBLISH
X-WR-CALNAME:BRK-Wasserwacht Senden
X-ORIGINAL-URL:https://www.wasserwacht-senden.de
X-WR-CALDESC:Veranstaltungen im BRK-Wasserwacht Senden
BEGIN:VTIMEZONE
TZID:Europe/Helsinki
BEGIN:DAYLIGHT
TZOFFSETFROM:+0200
TZOFFSETTO:+0300
TZNAME:EEST
DTSTART:20240331T010000
END:DAYLIGHT
BEGIN:STANDARD
TZOFFSETFROM:+0300
TZOFFSETTO:+0200
TZNAME:EET
DTSTART:20241027T010000
END:STANDARD
END:VTIMEZONE
BEGIN:VEVENT
DTSTART;VALUE=DATE:20240803
DTEND;VALUE=DATE:20240812
DTSTAMP:20260425T182911
CREATED:20220105T115927Z
LAST-MODIFIED:20240310T093742Z
UID:7508-1722657600-1723348799@www.wasserwacht-senden.de
SUMMARY:KWW Jugend- und Ausbildungszeltlager
DESCRIPTION:Ort: Grill- und Zeltplatz in 92334 Berching. \nFür alle Jugendliche von 6 bis 17 Jahre. \nWeitere Details: siehe Einladung der JL-Senden vom 8.3.2024 \n  \n
URL:https://www.wasserwacht-senden.de/event/kww-zeltlager/
LOCATION:Berching
CATEGORIES:Aus- und Fortbildung,Jugend,Kameradschaft
END:VEVENT
END:VCALENDAR