BEGIN:VCALENDAR
VERSION:2.0
PRODID:-//BRK-Wasserwacht Senden - ECPv4.9.11//NONSGML v1.0//EN
CALSCALE:GREGORIAN
METHOD:PUBLISH
X-WR-CALNAME:BRK-Wasserwacht Senden
X-ORIGINAL-URL:https://www.wasserwacht-senden.de
X-WR-CALDESC:Veranstaltungen im BRK-Wasserwacht Senden
BEGIN:VTIMEZONE
TZID:Europe/Helsinki
BEGIN:DAYLIGHT
TZOFFSETFROM:+0200
TZOFFSETTO:+0300
TZNAME:EEST
DTSTART:20210328T010000
END:DAYLIGHT
BEGIN:STANDARD
TZOFFSETFROM:+0300
TZOFFSETTO:+0200
TZNAME:EET
DTSTART:20211031T010000
END:STANDARD
END:VTIMEZONE
BEGIN:VEVENT
DTSTART;TZID=Europe/Helsinki:20210122T193000
DTEND;TZID=Europe/Helsinki:20210122T220000
DTSTAMP:20260424T020504
CREATED:20200113T132121Z
LAST-MODIFIED:20201203T095746Z
UID:7274-1611343800-1611352800@www.wasserwacht-senden.de
SUMMARY:Jahreshauptversammlung 2021
DESCRIPTION:Alle Mitglieder der Ortsgruppe sind hierzu herzlich eingeladen. \nTagesordnung: \n1. Begrüßung durch den Vorsitzenden \n2. Jahresbericht des Vorsitzenden\, des Technischen Leiters und der Jugendleitung \n3. Bericht des Kassenwarts \n4. Entlastung der Vorstandschaft \n5. Neuwahlen \n6. Ehrungen \n7. Sonstiges \n
URL:https://www.wasserwacht-senden.de/event/jahreshauptversammlung-2020/
LOCATION:Bürgerhaus Senden\, Mühlbachstraße\, Senden\, 89250\, Deutschland
CATEGORIES:Sonstiges
END:VEVENT
END:VCALENDAR