BEGIN:VCALENDAR
VERSION:2.0
PRODID:-//BRK-Wasserwacht Senden - ECPv4.9.11//NONSGML v1.0//EN
CALSCALE:GREGORIAN
METHOD:PUBLISH
X-WR-CALNAME:BRK-Wasserwacht Senden
X-ORIGINAL-URL:https://www.wasserwacht-senden.de
X-WR-CALDESC:Veranstaltungen im BRK-Wasserwacht Senden
BEGIN:VTIMEZONE
TZID:Europe/Helsinki
BEGIN:DAYLIGHT
TZOFFSETFROM:+0200
TZOFFSETTO:+0300
TZNAME:EEST
DTSTART:20240331T010000
END:DAYLIGHT
BEGIN:STANDARD
TZOFFSETFROM:+0300
TZOFFSETTO:+0200
TZNAME:EET
DTSTART:20241027T010000
END:STANDARD
END:VTIMEZONE
BEGIN:VEVENT
DTSTART;VALUE=DATE:20240906
DTEND;VALUE=DATE:20240910
DTSTAMP:20260425T201000
CREATED:20240707T110111Z
LAST-MODIFIED:20240707T110111Z
UID:7705-1725595200-1725854399@www.wasserwacht-senden.de
SUMMARY:Bootstour 2024
DESCRIPTION:In diesem Jahr haben wir die Möglichkeit\, vom 06. bis 8. September 2024 die Wasserwacht\nOrtsgruppe in Würzburg zu besuchen.\nDie Wasserwacht in Würzburg stellt uns eine Wiese zur Verfügung\, auf der wir zelten können.\nGeplant sind dann Bootsfahrten mit unseren oder auch den Booten von den Würzburger Kollegen.\nWeitere Details siehe Anmeldung bei der Jugendleitung. \n
URL:https://www.wasserwacht-senden.de/event/bootstour-2024/
LOCATION:WW – Würzburg
CATEGORIES:Jugend
END:VEVENT
END:VCALENDAR